BEGIN:VCALENDAR
VERSION:2.0
PRODID:-//Open-Xchange//8.47.75//EN
METHOD:PUBLISH
X-WR-CALNAME:LODE Publishing
BEGIN:VTIMEZONE
TZID:Europe/Berlin
LAST-MODIFIED:20260306T231828Z
TZURL:https://www.tzurl.org/zoneinfo-outlook/Europe/Berlin
X-LIC-LOCATION:Europe/Berlin
BEGIN:DAYLIGHT
TZNAME:CEST
TZOFFSETFROM:+0100
TZOFFSETTO:+0200
DTSTART:19700329T020000
RRULE:FREQ=YEARLY;BYMONTH=3;BYDAY=-1SU
END:DAYLIGHT
BEGIN:STANDARD
TZNAME:CET
TZOFFSETFROM:+0200
TZOFFSETTO:+0100
DTSTART:19701025T030000
RRULE:FREQ=YEARLY;BYMONTH=10;BYDAY=-1SU
END:STANDARD
END:VTIMEZONE
BEGIN:VEVENT
DTSTAMP:20260309T221201Z
CATEGORIES:Geschäftlich
CLASS:PUBLIC
CREATED:20260309T220145Z
DESCRIPTION:Most book publishing workflows involve at least three separat
 e tools: one for writing\, one for formatting\, and one for uploading to
  distributors. What if\n\nall of that happened in a single editor?\n\nIn
  this session\, Clemens Lode demos texlode\, a new browser-based editor 
 that typesets your book with the same engine used in academic journals a
 nd\n\nscientific textbooks (LaTeX/LuaTeX)\, but with a live preview that
  updates as you type. No compile button\, no waiting.\n\nWhat you'll see
 :\n\n- Importing an existing manuscript and watching it get typeset auto
 matically\n\n- Editing text and seeing the print-ready layout update in 
 real time\n\n- Generating a cover with correct spine width and bleed fro
 m the page count with one click\n\n- Publishing to print-on-demand and e
 book stores from the same source\n\nClemens has published 30+ books with
  LaTeX over the past 10 years and built texlode to eliminate the toolcha
 in he got tired of managing. The platform\n\nlaunches in October 2026.\n
 \nWhether you write nonfiction\, academic texts\, or technical documenta
 tion\, this session shows a different way to get from manuscript to book
 store.\n\nLink: https://meet.mailbox.org/room/cbaa43b7-472e-4e6a-8bef-4e
 25ad9a2076\nGast-Link: https://meet.mailbox.org/room/cbaa43b7-472e-4e6a-
 8bef-4e25ad9a2076?invite=693846a7-369e-4dcd-acd0-04392e5694ed\nEinwahlnu
 mmer: +493057710230\,\,9837447022\,\,1574053822
DTEND;TZID=Europe/Berlin:20260409T220000
DTSTART;TZID=Europe/Berlin:20260409T210000
LAST-MODIFIED:20260309T221201Z
LOCATION:https://www.meetup.com/dusseldorf-writing-and-publishing-meetup-
 group/events/313719229/?slug=dusseldorf-writing-and-publishing-meetup-gr
 oup&isFirstPublish=true
PRIORITY:0
SEQUENCE:1
SUMMARY:texlode Demo - 
TRANSP:OPAQUE
UID:24835093-afc2-40b9-9692-90864f5fe4fd
X-MICROSOFT-CDO-BUSYSTATUS:BUSY
X-MICROSOFT-CDO-INTENDEDSTATUS:BUSY
CONFERENCE;VALUE=URI;LABEL=OpenTalk Link;FEATURE=VIDEO,AUDIO,CHAT;X-OX-TY
 PE=opentalk;X-OX-ID=c19e777a-6ffe-428b-8a7e-044c6ddf7aec;X-OX-OWNER=3:ht
 tps://meet.mailbox.org/room/cbaa43b7-472e-4e6a-8bef-4e25ad9a2076?invite=
 693846a7-369e-4dcd-acd0-04392e5694ed
CONFERENCE;VALUE=URI;LABEL=OpenTalk Meeting;FEATURE=VIDEO,AUDIO,CHAT;X-OX
 -TYPE=opentalk-room:https://meet.mailbox.org/room/cbaa43b7-472e-4e6a-8be
 f-4e25ad9a2076
CONFERENCE;VALUE=URI;LABEL=OpenTalk Einwahlnummer;FEATURE=PHONE;X-OX-TYPE
 =opentalk-phone:tel:+493057710230,,9837447022,,1574053822
END:VEVENT
BEGIN:VEVENT
DTSTAMP:20260414T172030Z
CLASS:PUBLIC
CREATED:20260414T171944Z
DESCRIPTION:Düsseldorf Writing and Publishing Meetup Group\nMost book pub
 lishing workflows involve at least three separate tools: one for writing
 \, one for formatting\, and one for uploading to distributors — plus\nem
 ail threads to coordinate with co-authors.\n\nWhat if all of that happen
 ed in a single editor?\n\nIn this session\, Clemens Lode demos texlode\,
  a new browser-based editor that typesets your book with the same engine
  used in academic journals and\nscientific textbooks (LaTeX/LuaTeX)\, bu
 t with a live preview that updates as you type. No compile button\, no w
 aiting.\n\nWhat you'll see:\n\\- Importing an existing manuscript and wa
 tching it get typeset automatically\n\\- Editing text and seeing the pri
 nt\\-ready layout update in real time\n\\- Collaborating with co\\-autho
 rs in real time\\\, with live cursors on the typeset preview\n\\- Genera
 ting a cover with correct spine width and bleed from the page count with
  one click\n\\- Publishing to print\\-on\\-demand and ebook stores from 
 the same source\n\nClemens has published 30+ books with LaTeX over the p
 ast 10 years and built texlode to eliminate the toolchain he got tired o
 f managing. The platform\nlaunches in October 2026.\n\nWhether you write
  nonfiction\, academic texts\, or technical documentation\, this session
  shows a different way to get from manuscript to bookstore.
DTEND;TZID=Europe/Berlin:20260423T220000
DTSTART;TZID=Europe/Berlin:20260423T210000
LAST-MODIFIED:20260414T172030Z
PRIORITY:0
SEQUENCE:1
STATUS:CONFIRMED
SUMMARY:Live Demo: Writing and Publishing a Book in Real Time with texlod
 e
TRANSP:OPAQUE
UID:event_314160652@meetup.com
URL:https://www.meetup.com/dusseldorf-writing-and-publishing-meetup-group
 /events/314160652/
X-MICROSOFT-CDO-BUSYSTATUS:BUSY
X-MICROSOFT-CDO-INTENDEDSTATUS:BUSY
END:VEVENT
BEGIN:VEVENT
DTSTAMP:20260213T210415Z
CLASS:PUBLIC
CREATED:20260213T205712Z
DESCRIPTION:Frankfurt Buchmesse 2026\n6sqm corner stand\nMesse Frankfurt\
 n\nhttps://www.buchmesse.de
DTEND;VALUE=DATE:20261012
DTSTART;VALUE=DATE:20261007
LAST-MODIFIED:20260213T210415Z
LOCATION:Messe Frankfurt\, Ludwig-Erhard-Anlage 1\, 60327 Frankfurt am Ma
 in\, Germany
PRIORITY:0
SEQUENCE:0
STATUS:CONFIRMED
SUMMARY:Meet me at Frankfurt Buchmesse
TRANSP:OPAQUE
UID:b7254a44-e237-4c21-8c0d-49195b4522ae
X-MICROSOFT-CDO-ALLDAYEVENT:TRUE
X-MICROSOFT-CDO-BUSYSTATUS:BUSY
X-MICROSOFT-CDO-INTENDEDSTATUS:BUSY
END:VEVENT
END:VCALENDAR
